BEGIN:VCALENDAR
VERSION:2.0
BEGIN:VEVENT
URL:https://tickets.oztix.com.au/outlet/event/8a1e2de4-4a97-47ee-9c59-e4ad9684af12
DTSTART:20260425T090000Z
DTEND:20260425T090000Z
SUMMARY:TRYBE • 25 APRIL • ANZAC DAY LONG WEEKEND
DESCRIPTION:Event details: https://tickets.oztix.com.au/outlet/event/8a1e2de4-4a97-47ee-9c59-e4ad9684af12
LOCATION:Port Beach Brewery (North Fremantle, WA)
END:VEVENT
END:VCALENDAR