BEGIN:VCALENDAR
VERSION:2.0
BEGIN:VEVENT
URL:https://tickets.oztix.com.au/outlet/event/89fa2107-818e-4607-8977-dc27279cb13e
DTSTART:20260516T100000Z
DTEND:20260516T100000Z
SUMMARY:Rice Out the Window
DESCRIPTION:Event details: https://tickets.oztix.com.au/outlet/event/89fa2107-818e-4607-8977-dc27279cb13e
LOCATION:The Workers Club (Fitzroy, VIC)
END:VEVENT
END:VCALENDAR