BEGIN:VCALENDAR
VERSION:2.0
BEGIN:VEVENT
URL:https://tickets.oztix.com.au/outlet/event/8938df7d-5827-4b56-b6c6-48f6d124c141
DTSTART:20260522T103000Z
DTEND:20260522T103000Z
SUMMARY:Willie J's 6V6s live at Sooki Lounge
DESCRIPTION:Event details: https://tickets.oztix.com.au/outlet/event/8938df7d-5827-4b56-b6c6-48f6d124c141
LOCATION:Sooki Lounge (Belgrave, VIC)
END:VEVENT
END:VCALENDAR