BEGIN:VCALENDAR
VERSION:2.0
BEGIN:VEVENT
URL:https://tickets.oztix.com.au/outlet/event/89032854-57ea-4a4f-998c-f20240786e90
DTSTART:20260423T083000Z
DTEND:20260423T083000Z
SUMMARY:Paint & Sip
DESCRIPTION:Event details: https://tickets.oztix.com.au/outlet/event/89032854-57ea-4a4f-998c-f20240786e90
LOCATION:Oxford 152 (Bulimba, QLD)
END:VEVENT
END:VCALENDAR