BEGIN:VCALENDAR
VERSION:2.0
BEGIN:VEVENT
URL:https://tickets.oztix.com.au/outlet/event/88e59d0a-a678-43c7-9b8c-d3143f22071d
DTSTART:20260523T090000Z
DTEND:20260523T090000Z
SUMMARY:SLOMOSA
DESCRIPTION:Event details: https://tickets.oztix.com.au/outlet/event/88e59d0a-a678-43c7-9b8c-d3143f22071d
LOCATION:Crowbar Sydney (Leichhardt, NSW)
END:VEVENT
END:VCALENDAR