BEGIN:VCALENDAR
VERSION:2.0
BEGIN:VEVENT
URL:https://tickets.oztix.com.au/outlet/event/8867eac7-bd91-4399-995f-849879f6d5d4
DTSTART:20260719T063000Z
DTEND:20260719T063000Z
SUMMARY:The Act Newcastle Presents • Vacations 'HOLY GRAIL'
DESCRIPTION:Event details: https://tickets.oztix.com.au/outlet/event/8867eac7-bd91-4399-995f-849879f6d5d4
LOCATION:Earp Distilling Co. (Carrington, NSW)
END:VEVENT
END:VCALENDAR