BEGIN:VCALENDAR
VERSION:2.0
BEGIN:VEVENT
URL:https://tickets.oztix.com.au/outlet/event/8708d983-e330-42da-b731-cac66b5a8457
DTSTART:20260508T103000Z
DTEND:20260508T103000Z
SUMMARY:'CYBORG' Single Launch - Will Everest, The Dandy Buzzkills, The Watchers, The Selenes
DESCRIPTION:Event details: https://tickets.oztix.com.au/outlet/event/8708d983-e330-42da-b731-cac66b5a8457
LOCATION:Lowlife Basement Bar (Adelaide, SA)
END:VEVENT
END:VCALENDAR