BEGIN:VCALENDAR
VERSION:2.0
BEGIN:VEVENT
URL:https://tickets.oztix.com.au/outlet/event/85e905e4-9343-4c26-b517-967a148d473f
DTSTART:20260607T090000Z
DTEND:20260607T090000Z
SUMMARY:Chanel Beads
DESCRIPTION:Event details: https://tickets.oztix.com.au/outlet/event/85e905e4-9343-4c26-b517-967a148d473f
LOCATION:The Brightside (Fortitude Valley, QLD)
END:VEVENT
END:VCALENDAR