BEGIN:VCALENDAR
VERSION:2.0
BEGIN:VEVENT
URL:https://tickets.oztix.com.au/outlet/event/85c57a27-0e02-4cbe-926d-312db7f3b8d7
DTSTART:20260912T080000Z
DTEND:20260912T080000Z
SUMMARY:Magic Men Brisbane
DESCRIPTION:Event details: https://tickets.oztix.com.au/outlet/event/85c57a27-0e02-4cbe-926d-312db7f3b8d7
LOCATION:Wonderland (Fortitude Valley, QLD)
END:VEVENT
END:VCALENDAR