BEGIN:VCALENDAR
VERSION:2.0
BEGIN:VEVENT
URL:https://tickets.oztix.com.au/outlet/event/85159ffb-54f9-4630-bfb2-203af49a9761
DTSTART:20260424T000000Z
DTEND:20260424T000000Z
SUMMARY:Newstead House Friday Self Guided Tours - 10am Friday 24th April
DESCRIPTION:Event details: https://tickets.oztix.com.au/outlet/event/85159ffb-54f9-4630-bfb2-203af49a9761
LOCATION:Newstead House (Newstead, QLD)
END:VEVENT
END:VCALENDAR