BEGIN:VCALENDAR
VERSION:2.0
BEGIN:VEVENT
URL:https://tickets.oztix.com.au/outlet/event/85066742-012d-4353-aab3-eff47ea949e3
DTSTART:20260620T100000Z
DTEND:20260620T100000Z
SUMMARY:The Re-Mains w/ Grand Pricks
DESCRIPTION:Event details: https://tickets.oztix.com.au/outlet/event/85066742-012d-4353-aab3-eff47ea949e3
LOCATION:The Stag & Hunter Hotel (Mayfield, NSW)
END:VEVENT
END:VCALENDAR