BEGIN:VCALENDAR
VERSION:2.0
BEGIN:VEVENT
URL:https://tickets.oztix.com.au/outlet/event/84a4b284-42cd-47ad-925d-6a943b547b20
DTSTART:20260731T203000Z
DTEND:20260802T110000Z
SUMMARY:SCARPA Boulderfest 2026
DESCRIPTION:Event details: https://tickets.oztix.com.au/outlet/event/84a4b284-42cd-47ad-925d-6a943b547b20
LOCATION:Urban Climb West End - Boulder Hall (West End, QLD)
END:VEVENT
END:VCALENDAR