BEGIN:VCALENDAR
VERSION:2.0
BEGIN:VEVENT
URL:https://tickets.oztix.com.au/outlet/event/845b1de6-a1d9-4bc4-a2ab-528f6942d42d
DTSTART:20260531T020000Z
DTEND:20260531T020000Z
SUMMARY:Reggae Sunday Session (ALL AGES) with Black Bird Hum and more
DESCRIPTION:Event details: https://tickets.oztix.com.au/outlet/event/845b1de6-a1d9-4bc4-a2ab-528f6942d42d
LOCATION:Mo's Desert Clubhouse (Burleigh Heads, QLD)
END:VEVENT
END:VCALENDAR