BEGIN:VCALENDAR
VERSION:2.0
BEGIN:VEVENT
URL:https://tickets.oztix.com.au/outlet/event/8418f94a-9d3f-41a5-b693-6e870f01eb3b
DTSTART:20261003T100000Z
DTEND:20261003T100000Z
SUMMARY:BILL EVANS AND THE VANSBAND ALLSTARS
DESCRIPTION:Event details: https://tickets.oztix.com.au/outlet/event/8418f94a-9d3f-41a5-b693-6e870f01eb3b
LOCATION:The Gov - The Venue (Hindmarsh, SA)
END:VEVENT
END:VCALENDAR