BEGIN:VCALENDAR
VERSION:2.0
BEGIN:VEVENT
URL:https://tickets.oztix.com.au/outlet/event/833c3976-0d50-43db-bda0-767a3090ee8f
DTSTART:20260606T070000Z
DTEND:20260606T070000Z
SUMMARY:360 | Kingscliff Beach Hotel
DESCRIPTION:Event details: https://tickets.oztix.com.au/outlet/event/833c3976-0d50-43db-bda0-767a3090ee8f
LOCATION:Kingscliff Beach Hotel (Kingscliff, NSW)
END:VEVENT
END:VCALENDAR