BEGIN:VCALENDAR
VERSION:2.0
BEGIN:VEVENT
URL:https://tickets.oztix.com.au/outlet/event/824d732d-5d50-4bc6-98fb-96b3a4242e8f
DTSTART:20260725T080000Z
DTEND:20260725T080000Z
SUMMARY:Best Years Of Our Lives - Celebrating 80’s Oz Pub Rock
DESCRIPTION:Event details: https://tickets.oztix.com.au/outlet/event/824d732d-5d50-4bc6-98fb-96b3a4242e8f
LOCATION:Beenleigh Artisan Distillery (Eagleby, QLD)
END:VEVENT
END:VCALENDAR