BEGIN:VCALENDAR
VERSION:2.0
BEGIN:VEVENT
URL:https://tickets.oztix.com.au/outlet/event/81b558bf-60d6-42b3-aba0-93983397105c
DTSTART:20260517T090000Z
DTEND:20260517T090000Z
SUMMARY:Perth Music 70’s 80’s Showcase
DESCRIPTION:Event details: https://tickets.oztix.com.au/outlet/event/81b558bf-60d6-42b3-aba0-93983397105c
LOCATION:Lyric's Underground (Maylands, WA)
END:VEVENT
END:VCALENDAR