BEGIN:VCALENDAR
VERSION:2.0
BEGIN:VEVENT
URL:https://tickets.oztix.com.au/outlet/event/819c8021-0f11-4a57-b453-eb6be04419b5
DTSTART:20260731T090000Z
DTEND:20260731T090000Z
SUMMARY:Bleak Squad Live @ The Imperial Hotel Eumundi
DESCRIPTION:Event details: https://tickets.oztix.com.au/outlet/event/819c8021-0f11-4a57-b453-eb6be04419b5
LOCATION:Imperial Hotel Eumundi (Eumundi, QLD)
END:VEVENT
END:VCALENDAR