BEGIN:VCALENDAR
VERSION:2.0
BEGIN:VEVENT
URL:https://tickets.oztix.com.au/outlet/event/818f2fc0-8621-4920-9d1e-fa5fff3529fb
DTSTART:20260502T120000Z
DTEND:20260502T120000Z
SUMMARY:Bloom Pres. Laura King [AU]
DESCRIPTION:Event details: https://tickets.oztix.com.au/outlet/event/818f2fc0-8621-4920-9d1e-fa5fff3529fb
LOCATION:Bloom Bar & Lounge (Geelong, VIC)
END:VEVENT
END:VCALENDAR