BEGIN:VCALENDAR
VERSION:2.0
BEGIN:VEVENT
URL:https://tickets.oztix.com.au/outlet/event/7def132c-3b7f-4941-8b7d-5eee6adf683a
DTSTART:20260425T050000Z
DTEND:20260425T050000Z
SUMMARY:Dan Musil - EP Launch with Loz Irin-Ray
DESCRIPTION:Event details: https://tickets.oztix.com.au/outlet/event/7def132c-3b7f-4941-8b7d-5eee6adf683a
LOCATION:Wesley Anne (Northcote, VIC)
END:VEVENT
END:VCALENDAR