BEGIN:VCALENDAR
VERSION:2.0
BEGIN:VEVENT
URL:https://tickets.oztix.com.au/outlet/event/7da5845a-e164-4593-8ce6-1392fd301060
DTSTART:20260925T093000Z
DTEND:20260925T093000Z
SUMMARY:Rick Price 'Call on Me' Tour
DESCRIPTION:Event details: https://tickets.oztix.com.au/outlet/event/7da5845a-e164-4593-8ce6-1392fd301060
LOCATION:Bligh Park Hotel (South Windsor, NSW)
END:VEVENT
END:VCALENDAR