BEGIN:VCALENDAR
VERSION:2.0
BEGIN:VEVENT
URL:https://tickets.oztix.com.au/outlet/event/7d9e0b19-cf55-403e-b534-a07e1bde4aaf
DTSTART:20260430T093000Z
DTEND:20260430T093000Z
SUMMARY:BADLANDERS
DESCRIPTION:Event details: https://tickets.oztix.com.au/outlet/event/7d9e0b19-cf55-403e-b534-a07e1bde4aaf
LOCATION:Shotkickers (Thornbury, VIC)
END:VEVENT
END:VCALENDAR