BEGIN:VCALENDAR
VERSION:2.0
BEGIN:VEVENT
URL:https://tickets.oztix.com.au/outlet/event/7c9188a2-76e8-4b2f-a544-58646571fabf
DTSTART:20260530T100000Z
DTEND:20260530T100000Z
SUMMARY:a Mate of Mine is playing at the BVH
DESCRIPTION:Event details: https://tickets.oztix.com.au/outlet/event/7c9188a2-76e8-4b2f-a544-58646571fabf
LOCATION:Botany View Hotel (Newtown, NSW)
END:VEVENT
END:VCALENDAR