BEGIN:VCALENDAR
VERSION:2.0
BEGIN:VEVENT
URL:https://tickets.oztix.com.au/outlet/event/7c73bcf2-351f-47f6-8421-1ed69004ebac
DTSTART:20260522T090000Z
DTEND:20260522T090000Z
SUMMARY:MURPHY'S LAW 2026 AUS & NZ TOUR
DESCRIPTION:Event details: https://tickets.oztix.com.au/outlet/event/7c73bcf2-351f-47f6-8421-1ed69004ebac
LOCATION:Vinnies Dive (Southport, QLD)
END:VEVENT
END:VCALENDAR