BEGIN:VCALENDAR
VERSION:2.0
BEGIN:VEVENT
URL:https://tickets.oztix.com.au/outlet/event/7c453ff6-847a-4771-85be-984d19d74298
DTSTART:20260820T090000Z
DTEND:20260820T090000Z
SUMMARY:Montaigne - Glorious Heights 10th Anniversary Tour
DESCRIPTION:Event details: https://tickets.oztix.com.au/outlet/event/7c453ff6-847a-4771-85be-984d19d74298
LOCATION:Mo's Desert Clubhouse (Burleigh Heads, QLD)
END:VEVENT
END:VCALENDAR