BEGIN:VCALENDAR
VERSION:2.0
BEGIN:VEVENT
URL:https://tickets.oztix.com.au/outlet/event/7c26f761-6fb8-4817-be3a-f044e004a47e
DTSTART:20260613T110000Z
DTEND:20260613T110000Z
SUMMARY:DOMINO - Tribute To The Music of KISS
DESCRIPTION:Event details: https://tickets.oztix.com.au/outlet/event/7c26f761-6fb8-4817-be3a-f044e004a47e
LOCATION:The Gov - The Gibson Stage (Hindmarsh, SA)
END:VEVENT
END:VCALENDAR