BEGIN:VCALENDAR
VERSION:2.0
BEGIN:VEVENT
URL:https://tickets.oztix.com.au/outlet/event/7ace9ae8-bda7-44ee-ae8e-c347c1822317
DTSTART:20260522T090000Z
DTEND:20260522T090000Z
SUMMARY:East Capri No Luck EP Tour
DESCRIPTION:Event details: https://tickets.oztix.com.au/outlet/event/7ace9ae8-bda7-44ee-ae8e-c347c1822317
LOCATION:Tomcat (Fortitude Valley, QLD)
END:VEVENT
END:VCALENDAR