BEGIN:VCALENDAR
VERSION:2.0
BEGIN:VEVENT
URL:https://tickets.oztix.com.au/outlet/event/7ac42f10-01aa-4657-b3e4-799beff59336
DTSTART:20260613T090000Z
DTEND:20260613T090000Z
SUMMARY:COMPLETE
DESCRIPTION:Event details: https://tickets.oztix.com.au/outlet/event/7ac42f10-01aa-4657-b3e4-799beff59336
LOCATION:The Brightside (Outdoors) (Fortitude Valley, QLD)
END:VEVENT
END:VCALENDAR