BEGIN:VCALENDAR
VERSION:2.0
BEGIN:VEVENT
URL:https://tickets.oztix.com.au/outlet/event/79f00e6a-a014-457c-b60b-889829647477
DTSTART:20260515T090000Z
DTEND:20260515T090000Z
SUMMARY:Tijuana Cartel
DESCRIPTION:Event details: https://tickets.oztix.com.au/outlet/event/79f00e6a-a014-457c-b60b-889829647477
LOCATION:Freshwater Brewing Company (Brookvale, NSW)
END:VEVENT
END:VCALENDAR