BEGIN:VCALENDAR
VERSION:2.0
BEGIN:VEVENT
URL:https://tickets.oztix.com.au/outlet/event/78b55914-abc4-4b84-a947-5a6697b5ea6e
DTSTART:20260501T093000Z
DTEND:20260501T093000Z
SUMMARY:RACHAEL FAHIM: The Who You Are Your
DESCRIPTION:Event details: https://tickets.oztix.com.au/outlet/event/78b55914-abc4-4b84-a947-5a6697b5ea6e
LOCATION:Camden Hotel (Camden, NSW)
END:VEVENT
END:VCALENDAR