BEGIN:VCALENDAR
VERSION:2.0
BEGIN:VEVENT
URL:https://tickets.oztix.com.au/outlet/event/78404f54-bba8-4d05-b523-62d84dad0b60
DTSTART:20261114T083000Z
DTEND:20261114T083000Z
SUMMARY:McCartney - Wings Over Australia 50th Anniversary Tribute Tour
DESCRIPTION:Event details: https://tickets.oztix.com.au/outlet/event/78404f54-bba8-4d05-b523-62d84dad0b60
LOCATION:Royal Hotel Queanbeyan (RHQ) (Queanbeyan, NSW)
END:VEVENT
END:VCALENDAR