BEGIN:VCALENDAR
VERSION:2.0
BEGIN:VEVENT
URL:https://tickets.oztix.com.au/outlet/event/7831d7ac-d087-4e84-841a-2df32d9e5cb0
DTSTART:20260509T100000Z
DTEND:20260509T100000Z
SUMMARY:Forever <3: Charli XCX Club Night - Canberra
DESCRIPTION:Event details: https://tickets.oztix.com.au/outlet/event/7831d7ac-d087-4e84-841a-2df32d9e5cb0
LOCATION:The Baso - Canberra (Belconnen, ACT)
END:VEVENT
END:VCALENDAR