BEGIN:VCALENDAR
VERSION:2.0
BEGIN:VEVENT
URL:https://tickets.oztix.com.au/outlet/event/782b6cd1-540f-4d23-adb7-8e6aa6900417
DTSTART:20260606T090000Z
DTEND:20260606T090000Z
SUMMARY:GILROY "ANOTHER DREAM" TOUR
DESCRIPTION:Event details: https://tickets.oztix.com.au/outlet/event/782b6cd1-540f-4d23-adb7-8e6aa6900417
LOCATION:Black Bear Lodge (Fortitude Valley, QLD)
END:VEVENT
END:VCALENDAR