BEGIN:VCALENDAR
VERSION:2.0
BEGIN:VEVENT
URL:https://tickets.oztix.com.au/outlet/event/7818c72f-3c54-4233-97bc-a2bed1d91030
DTSTART:20260530T100000Z
DTEND:20260530T100000Z
SUMMARY:Disgraceland
DESCRIPTION:Event details: https://tickets.oztix.com.au/outlet/event/7818c72f-3c54-4233-97bc-a2bed1d91030
LOCATION:Royal Quarters (Nundah, QLD)
END:VEVENT
END:VCALENDAR