BEGIN:VCALENDAR
VERSION:2.0
BEGIN:VEVENT
URL:https://tickets.oztix.com.au/outlet/event/780a0d84-10c0-4bd5-89de-b9f04a79bab4
DTSTART:20260526T220000Z
DTEND:20260529T103000Z
SUMMARY:HITZ 93.9 BUNDABERG SHOW 2026
DESCRIPTION:Event details: https://tickets.oztix.com.au/outlet/event/780a0d84-10c0-4bd5-89de-b9f04a79bab4
LOCATION:Bundaberg Recreational Precinct (Branyan, QLD)
END:VEVENT
END:VCALENDAR