BEGIN:VCALENDAR
VERSION:2.0
BEGIN:VEVENT
URL:https://tickets.oztix.com.au/outlet/event/77e80552-92b2-46f1-aa12-b859f7acb535
DTSTART:20260424T103000Z
DTEND:20260424T103000Z
SUMMARY:Ben Danks & the Bandits (Single Launch) w/ Ratfink + Russell Montanus
DESCRIPTION:Event details: https://tickets.oztix.com.au/outlet/event/77e80552-92b2-46f1-aa12-b859f7acb535
LOCATION:Bar Open (Fitzroy, VIC)
END:VEVENT
END:VCALENDAR