BEGIN:VCALENDAR
VERSION:2.0
BEGIN:VEVENT
URL:https://tickets.oztix.com.au/outlet/event/778d1ebe-95ae-42a7-b17b-4ab9e514d6ab
DTSTART:20260510T000000Z
DTEND:20260510T000000Z
SUMMARY:Mother's Day High Tea
DESCRIPTION:Event details: https://tickets.oztix.com.au/outlet/event/778d1ebe-95ae-42a7-b17b-4ab9e514d6ab
LOCATION:Newstead House (Newstead, QLD)
END:VEVENT
END:VCALENDAR