BEGIN:VCALENDAR
VERSION:2.0
BEGIN:VEVENT
URL:https://tickets.oztix.com.au/outlet/event/770f40ee-572e-4b8a-806b-15483ed20c63
DTSTART:20260718T090000Z
DTEND:20260718T090000Z
SUMMARY:Brit Fest (from the UK) - Mt Evelyn
DESCRIPTION:Event details: https://tickets.oztix.com.au/outlet/event/770f40ee-572e-4b8a-806b-15483ed20c63
LOCATION:York on Lilydale (Mount Evelyn, VIC)
END:VEVENT
END:VCALENDAR