BEGIN:VCALENDAR
VERSION:2.0
BEGIN:VEVENT
URL:https://tickets.oztix.com.au/outlet/event/760c321c-745b-48c6-aa66-0710d39f7e88
DTSTART:20261013T080000Z
DTEND:20261013T080000Z
SUMMARY:GUTTERMOUTH - "ONE LAST TIME" FAREWELL TOUR
DESCRIPTION:Event details: https://tickets.oztix.com.au/outlet/event/760c321c-745b-48c6-aa66-0710d39f7e88
LOCATION:The Hamilton Station Hotel (Islington, NSW)
END:VEVENT
END:VCALENDAR