BEGIN:VCALENDAR
VERSION:2.0
BEGIN:VEVENT
URL:https://tickets.oztix.com.au/outlet/event/74214b84-6f53-4daf-b7ac-2d2225a149dc
DTSTART:20260516T100000Z
DTEND:20260516T100000Z
SUMMARY:SHREK RAVE CANBERRA
DESCRIPTION:Event details: https://tickets.oztix.com.au/outlet/event/74214b84-6f53-4daf-b7ac-2d2225a149dc
LOCATION:The Baso - Canberra (Belconnen, ACT)
END:VEVENT
END:VCALENDAR