BEGIN:VCALENDAR
VERSION:2.0
BEGIN:VEVENT
URL:https://tickets.oztix.com.au/outlet/event/7406aa28-c5e8-44fe-9020-ae84cea8b1fc
DTSTART:20260428T090000Z
DTEND:20260428T090000Z
SUMMARY:RESIDENCY: Mutton Tuesdays ft. Mary & the Little Lambs
DESCRIPTION:Event details: https://tickets.oztix.com.au/outlet/event/7406aa28-c5e8-44fe-9020-ae84cea8b1fc
LOCATION:The Workers Club (Fitzroy, VIC)
END:VEVENT
END:VCALENDAR