BEGIN:VCALENDAR
VERSION:2.0
BEGIN:VEVENT
URL:https://tickets.oztix.com.au/outlet/event/73a5bbac-d226-42d1-9c63-543b4b77f4a5
DTSTART:20260509T113000Z
DTEND:20260509T113000Z
SUMMARY:Interstella 5555: The 5tory of the 5ecret 5tar 5ystem (G) PRESENTED IN 35MM FILM
DESCRIPTION:Event details: https://tickets.oztix.com.au/outlet/event/73a5bbac-d226-42d1-9c63-543b4b77f4a5
LOCATION:The Revival House Perth (Como, WA)
END:VEVENT
END:VCALENDAR