BEGIN:VCALENDAR
VERSION:2.0
BEGIN:VEVENT
URL:https://tickets.oztix.com.au/outlet/event/7363b08e-3290-47ce-9821-bec2449cbd61
DTSTART:20260920T043000Z
DTEND:20260920T043000Z
SUMMARY:Beccy Cole - Through The Haze Tour
DESCRIPTION:Event details: https://tickets.oztix.com.au/outlet/event/7363b08e-3290-47ce-9821-bec2449cbd61
LOCATION:The Savvy Squire (Mooloolaba, QLD)
END:VEVENT
END:VCALENDAR