BEGIN:VCALENDAR
VERSION:2.0
BEGIN:VEVENT
URL:https://tickets.oztix.com.au/outlet/event/731408b4-d6d0-4d14-8451-8208ef3da88a
DTSTART:20260509T100000Z
DTEND:20260509T100000Z
SUMMARY:VOLT JOLT POWER DOWN SHOW
DESCRIPTION:Event details: https://tickets.oztix.com.au/outlet/event/731408b4-d6d0-4d14-8451-8208ef3da88a
LOCATION:Volta (Ballarat Central, VIC)
END:VEVENT
END:VCALENDAR