BEGIN:VCALENDAR
VERSION:2.0
BEGIN:VEVENT
URL:https://tickets.oztix.com.au/outlet/event/7306ad6b-e1cf-430a-8550-3c919ed6dd26
DTSTART:20260807T090000Z
DTEND:20260807T090000Z
SUMMARY:Clone Roses (UK) & NOASIS Australian Tour ’26
DESCRIPTION:Event details: https://tickets.oztix.com.au/outlet/event/7306ad6b-e1cf-430a-8550-3c919ed6dd26
LOCATION:Felons Barrel Hall (Brisbane, QLD)
END:VEVENT
END:VCALENDAR