BEGIN:VCALENDAR
VERSION:2.0
BEGIN:VEVENT
URL:https://tickets.oztix.com.au/outlet/event/72d8c370-d592-4c20-a585-9f7e679bfbff
DTSTART:20260606T080000Z
DTEND:20260606T080000Z
SUMMARY:Ashton's - The Great Australian Circus
DESCRIPTION:Event details: https://tickets.oztix.com.au/outlet/event/72d8c370-d592-4c20-a585-9f7e679bfbff
LOCATION:Chinchilla Showgrounds (Chinchilla , QLD)
END:VEVENT
END:VCALENDAR