BEGIN:VCALENDAR
VERSION:2.0
BEGIN:VEVENT
URL:https://tickets.oztix.com.au/outlet/event/71777eff-1e7d-4388-933b-4b013bec2b18
DTSTART:20260509T020000Z
DTEND:20260509T020000Z
SUMMARY:Terra Rouge ALL AGES Single Launch
DESCRIPTION:Event details: https://tickets.oztix.com.au/outlet/event/71777eff-1e7d-4388-933b-4b013bec2b18
LOCATION:The Leadbeater Hotel (Richmond, VIC)
END:VEVENT
END:VCALENDAR