BEGIN:VCALENDAR
VERSION:2.0
BEGIN:VEVENT
URL:https://tickets.oztix.com.au/outlet/event/713e53c7-2ae3-4d7f-9146-125fac34de0c
DTSTART:20260509T080000Z
DTEND:20260509T080000Z
SUMMARY:RITUAL - 2ND BIRTHDAY
DESCRIPTION:Event details: https://tickets.oztix.com.au/outlet/event/713e53c7-2ae3-4d7f-9146-125fac34de0c
LOCATION:Port Beach Brewery (North Fremantle, WA)
END:VEVENT
END:VCALENDAR