BEGIN:VCALENDAR
VERSION:2.0
BEGIN:VEVENT
URL:https://tickets.oztix.com.au/outlet/event/7072d645-28ef-4ff3-bd52-3290089bc300
DTSTART:20260628T030000Z
DTEND:20260628T030000Z
SUMMARY:K-Pop Takeover Brisbane
DESCRIPTION:Event details: https://tickets.oztix.com.au/outlet/event/7072d645-28ef-4ff3-bd52-3290089bc300
LOCATION:Mansfield Arena (Mansfield, QLD)
END:VEVENT
END:VCALENDAR