BEGIN:VCALENDAR
VERSION:2.0
BEGIN:VEVENT
URL:https://tickets.oztix.com.au/outlet/event/7022ffef-d1b1-412a-a82c-0ad775d62089
DTSTART:20260424T100000Z
DTEND:20260424T100000Z
SUMMARY:Best of Melbourne Comedy
DESCRIPTION:Event details: https://tickets.oztix.com.au/outlet/event/7022ffef-d1b1-412a-a82c-0ad775d62089
LOCATION:Basement Comedy Club, Comedy Festival (Melbourne, VIC)
END:VEVENT
END:VCALENDAR